BEGIN:VCALENDAR
VERSION:2.0
PRODID:-//Events Neue Effizienz gemeinnützige GmbH - ECPv6.15.20//NONSGML v1.0//EN
CALSCALE:GREGORIAN
METHOD:PUBLISH
X-WR-CALNAME:Events Neue Effizienz gemeinnützige GmbH
X-ORIGINAL-URL:https://events.neue-effizienz.de
X-WR-CALDESC:Veranstaltungen für Events Neue Effizienz gemeinnützige GmbH
REFRESH-INTERVAL;VALUE=DURATION:PT1H
X-Robots-Tag:noindex
X-PUBLISHED-TTL:PT1H
BEGIN:VTIMEZONE
TZID:Europe/Berlin
BEGIN:DAYLIGHT
TZOFFSETFROM:+0100
TZOFFSETTO:+0200
TZNAME:CEST
DTSTART:20210328T010000
END:DAYLIGHT
BEGIN:STANDARD
TZOFFSETFROM:+0200
TZOFFSETTO:+0100
TZNAME:CET
DTSTART:20211031T010000
END:STANDARD
BEGIN:DAYLIGHT
TZOFFSETFROM:+0100
TZOFFSETTO:+0200
TZNAME:CEST
DTSTART:20220327T010000
END:DAYLIGHT
BEGIN:STANDARD
TZOFFSETFROM:+0200
TZOFFSETTO:+0100
TZNAME:CET
DTSTART:20221030T010000
END:STANDARD
BEGIN:DAYLIGHT
TZOFFSETFROM:+0100
TZOFFSETTO:+0200
TZNAME:CEST
DTSTART:20230326T010000
END:DAYLIGHT
BEGIN:STANDARD
TZOFFSETFROM:+0200
TZOFFSETTO:+0100
TZNAME:CET
DTSTART:20231029T010000
END:STANDARD
END:VTIMEZONE
BEGIN:VEVENT
DTSTART;TZID=Europe/Berlin:20220908T150000
DTEND;TZID=Europe/Berlin:20220908T180000
DTSTAMP:20260419T183514
CREATED:20220728T120817Z
LAST-MODIFIED:20220729T101421Z
UID:10000020-1662649200-1662660000@events.neue-effizienz.de
SUMMARY:Kickstart für Ihre Kreislaufwirtschaft - In Kooperation Kreise schließen
DESCRIPTION:Sie möchten mit Ihrem Unternehmen neue Wege gehen und die Vorteile der Kreislaufwirtschaft nutzen? Sie können sich vorstellen im Sinne der Nachhaltigkeit und Kreislaufwirtschaft aktuelle Praktiken neu zu denken? Machen Sie sich mit uns auf den Weg in Richtung Kreislaufwirtschaft! \nKreislaufwirtschaft bietet Chancen\, um aktuellen Herausforderungen\, wie Rohstoffengpässen und gestiegenen Kosten zu begegnen. Finden Sie heraus\, welche Potentiale Sie für Ihr Unternehmen nutzen können. \nIm offenen Workshop von bergisch.metall und dem Fraunhofer Institut für angewandte Informationstechnik zeigen wir auf\, wie Sie im eigenen Unternehmen vorhandene zirkuläre Ressourcen identifizieren. Gemeinsam entwickeln wir neue Ideen für zirkuläre Geschäftsmodelle und entdecken Kooperationsmöglichkeiten. Individuelle Lösungen und auf Ihre Rahmenbedingungen abgestimmte Chancen erwarten Sie!
URL:https://events.neue-effizienz.de/event/kickstart-fuer-ihre-kreislaufwirtschaft-in-kooperation-kreise-schliessen/
LOCATION:Neue Effizienz gemeinnützige GmbH\, Wiesenstraße 118\, Wuppertal\, 42105
ORGANIZER;CN="bergisch.metall":MAILTO:info@bergisch-metall.de
END:VEVENT
END:VCALENDAR